BEGIN:VCALENDAR
VERSION:2.0
PRODID:-//eventon.com NONSGML v1.0//EN
CALSCALE:GREGORIAN
METHOD:PUBLISH
BEGIN:VEVENT
UID:69e7320c7d0fa
DTSTAMP:20260421T081508Z
DTSTART:20251128
DTEND:20251129
LOCATION:
SUMMARY:District Office Closed
DESCRIPTION:District Office Closed\nhttps://mnaog.org/events/district-offic
 e-closed-2/
URL:https://mnaog.org/events/district-office-closed-2/
END:VEVENT
END:VCALENDAR