BEGIN:VCALENDAR
VERSION:2.0
PRODID:-//eventon.com NONSGML v1.0//EN
CALSCALE:GREGORIAN
METHOD:PUBLISH
BEGIN:VEVENT
UID:69e736c15dbe3
DTSTAMP:20260421T083513Z
DTSTART:20240504T120000Z
DTEND:20240504T140000Z
LOCATION:
SUMMARY:Seniors' Spring Luncheon
DESCRIPTION:Seniors' Spring Luncheon\nhttps://mnaog.org/events/seniors-spri
 ng-luncheon/
URL:https://mnaog.org/events/seniors-spring-luncheon/
END:VEVENT
END:VCALENDAR